BEGIN:VCALENDAR
VERSION:2.0
PRODID:-//Divine Mother Healer - ECPv6.15.20//NONSGML v1.0//EN
CALSCALE:GREGORIAN
METHOD:PUBLISH
X-ORIGINAL-URL:https://thedivinemotherhealer.com
X-WR-CALDESC:Events for Divine Mother Healer
REFRESH-INTERVAL;VALUE=DURATION:PT1H
X-Robots-Tag:noindex
X-PUBLISHED-TTL:PT1H
BEGIN:VTIMEZONE
TZID:UTC
BEGIN:STANDARD
TZOFFSETFROM:+0000
TZOFFSETTO:+0000
TZNAME:UTC
DTSTART:20240101T000000
END:STANDARD
END:VTIMEZONE
BEGIN:VTIMEZONE
TZID:America/New_York
BEGIN:DAYLIGHT
TZOFFSETFROM:-0500
TZOFFSETTO:-0400
TZNAME:EDT
DTSTART:20240310T070000
END:DAYLIGHT
BEGIN:STANDARD
TZOFFSETFROM:-0400
TZOFFSETTO:-0500
TZNAME:EST
DTSTART:20241103T060000
END:STANDARD
BEGIN:DAYLIGHT
TZOFFSETFROM:-0500
TZOFFSETTO:-0400
TZNAME:EDT
DTSTART:20250309T070000
END:DAYLIGHT
BEGIN:STANDARD
TZOFFSETFROM:-0400
TZOFFSETTO:-0500
TZNAME:EST
DTSTART:20251102T060000
END:STANDARD
BEGIN:DAYLIGHT
TZOFFSETFROM:-0500
TZOFFSETTO:-0400
TZNAME:EDT
DTSTART:20260308T070000
END:DAYLIGHT
BEGIN:STANDARD
TZOFFSETFROM:-0400
TZOFFSETTO:-0500
TZNAME:EST
DTSTART:20261101T060000
END:STANDARD
END:VTIMEZONE
BEGIN:VEVENT
DTSTART;TZID=UTC:20251025T110000
DTEND;TZID=UTC:20251101T160000
DTSTAMP:20260424T192820
CREATED:20250527T213042Z
LAST-MODIFIED:20251008T183245Z
UID:4125-1761390000-1762012800@thedivinemotherhealer.com
SUMMARY:Reiki Master Level Training with Certification
DESCRIPTION:Elevate your Reiki practice with the transformative Holy Fire III Master Training. \nThis training is for already Reiki Masters and Level II practitioners seeking to deepen their practice and unlock their full healing potential. \nThis is a two day event – Saturday October 25th and Saturday November 1st – 11am to 4pm \n \nKey Benefits: \nEnhanced Reiki Sessions: Deliver more powerful and effective treatments. \nDeepened Spiritual Connection: Experience profound inner peace and a stronger connection to your higher self. \nExpanded Healing Abilities: Access new healing modalities and techniques. \nRegister HERE \n** I do offer Klarna – break down the payments over 4 months\, that makes it less than $200 per month
URL:https://thedivinemotherhealer.com/event/reiki-master-level-training-with-cerification/
LOCATION:The Divine Mother Healer – Located in The Self Care Collective\, 365 Franklin Ave\, Wyckoff\, NJ\, 07481\, United States
CATEGORIES:Reiki Training
ATTACH;FMTTYPE=image/png:https://thedivinemotherhealer.com/wp-content/uploads/2025/05/Screenshot-2025-10-02-141947.png
ORGANIZER;CN="Catherine Emporellis":MAILTO:catherine@thedivinemotherhealer.com
END:VEVENT
BEGIN:VEVENT
DTSTART;TZID=America/New_York:20251112T190000
DTEND;TZID=America/New_York:20251112T210000
DTSTAMP:20260424T192820
CREATED:20251029T155833Z
LAST-MODIFIED:20251029T155833Z
UID:5669-1762974000-1762981200@thedivinemotherhealer.com
SUMMARY:Scent of Serenity
DESCRIPTION:Special Event Wednesday Nov 12th 7:00 – 9:00 pm \nIn collaboration with Anna and the Inspirational Healing Method \nSpend a relaxing and peaceful evening in a warm calming and loving atmosphere. Enjoy connecting with mother nature through its pure essential oils and the universe through a Thetahealing meditation and sound healing. \nJoin us to create a powerful calming and personalized essential oil blend using carefully selected essential oils known for their stress reducing properties. Each roller bottle will be infused with rose quartz crystals to maximize the blend stress relieving benefits. \n\nLearn natural stress relieving tools\nMelt away stress instantly\nCreate your own personalized essential oil to take home with you\n\nTo Register Click HERE \nSpace is limited
URL:https://thedivinemotherhealer.com/event/scent-of-serenity/
LOCATION:The Divine Mother Healer – Located in The Self Care Collective\, 365 Franklin Ave\, Wyckoff\, NJ\, 07481\, United States
CATEGORIES:Intuition / Healing
ATTACH;FMTTYPE=image/png:https://thedivinemotherhealer.com/wp-content/uploads/2025/10/event-banner.png
ORGANIZER;CN="Catherine Emporellis":MAILTO:catherine@thedivinemotherhealer.com
END:VEVENT
BEGIN:VEVENT
DTSTART;TZID=UTC:20251115T110000
DTEND;TZID=UTC:20251122T160000
DTSTAMP:20260424T192820
CREATED:20251015T132752Z
LAST-MODIFIED:20251015T132752Z
UID:5609-1763204400-1763827200@thedivinemotherhealer.com
SUMMARY:Reiki Practitioner Level 1 & 2 Training with Certification
DESCRIPTION:Reiki Practitioner Training ~ levels 1 & 2\nThe journey into Reiki Level 1 & 2 is a journey of profound transformation\, and you’re invited to take the next step. I often hear students ask\, ‘Am I ready for this?’ and the truth is\, if you’re feeling even a gentle pull\, a whisper of guidance towards Reiki\, then yes\, you are. \n\nReiki is a path of gentle unfolding\, a journey of self-discovery and empowerment. Over two days\, you’ll learn the foundational practices and delve into the advanced techniques that empower professional practice. From self-healing to distance healing\, from balancing chakras to mastering sacred symbols\, you’ll gain the tools to make a real difference in your life and the lives of others.\n\n\n\n\n\n\n\nReiki Training in Wyckoff New Jersey\n2 Days of Training Saturday November 15th and 22nd\nSign up below to learn more about this transformative two-day training and begin your path to becoming a skilled and compassionate Reiki practitioner.” \nSign up – HERE \n\n\n** I do offer Klarna and After Pay – both these services will break down the upfront cost of the class and spread the payments over 4 months\, So you end up paying a low monthly payment\, under $200 per month  ~ 🧘🌻🙌 \n 
URL:https://thedivinemotherhealer.com/event/reiki-practitioner-level-1-2-training-with-certification/
LOCATION:The Divine Mother Healer – Located in The Self Care Collective\, 365 Franklin Ave\, Wyckoff\, NJ\, 07481\, United States
CATEGORIES:Reiki Training
ATTACH;FMTTYPE=image/png:https://thedivinemotherhealer.com/wp-content/uploads/2025/10/edited-reiki.png
ORGANIZER;CN="Catherine Emporellis":MAILTO:catherine@thedivinemotherhealer.com
END:VEVENT
END:VCALENDAR