BEGIN:VCALENDAR
VERSION:2.0
PRODID:-//Divine Mother Healer - ECPv6.15.20//NONSGML v1.0//EN
CALSCALE:GREGORIAN
METHOD:PUBLISH
X-ORIGINAL-URL:https://thedivinemotherhealer.com
X-WR-CALDESC:Events for Divine Mother Healer
REFRESH-INTERVAL;VALUE=DURATION:PT1H
X-Robots-Tag:noindex
X-PUBLISHED-TTL:PT1H
BEGIN:VTIMEZONE
TZID:UTC
BEGIN:STANDARD
TZOFFSETFROM:+0000
TZOFFSETTO:+0000
TZNAME:UTC
DTSTART:20240101T000000
END:STANDARD
END:VTIMEZONE
BEGIN:VEVENT
DTSTART;TZID=UTC:20250405T160000
DTEND;TZID=UTC:20250405T173000
DTSTAMP:20260425T073721
CREATED:20250313T185510Z
LAST-MODIFIED:20250316T010737Z
UID:3907-1743868800-1743874200@thedivinemotherhealer.com
SUMMARY:Restore and Heal
DESCRIPTION:Brought to you by the Inner Glow Collective \nMay 5th   4 – 5:30pm \nQuantum Psychotherapy Group\, 209 Cooper Ave Suite 11\, Second Floor\, Montclair\, NJ 07043. \nJoin Brandi\, Rima\, Joelle Tramel and Catherine Emporellis \nIn a holistic approach to wellbeing – combining the physical benefits of restorative yoga\, the mental clarity of meditation and the healing energy of Reiki \nRegister HERE  \n$65 \nSuitable for all levels
URL:https://thedivinemotherhealer.com/event/restore-and-heal/
LOCATION:Quantum Holistic Therapy\, 209 Cooper Ave Suite 11\, Second Floor\, Montclair Township\, NJ\, 07043\, United States
CATEGORIES:Yoga
ATTACH;FMTTYPE=image/png:https://thedivinemotherhealer.com/wp-content/uploads/2025/03/5067.png
ORGANIZER;CN="Catherine Emporellis":MAILTO:catherine@thedivinemotherhealer.com
END:VEVENT
BEGIN:VEVENT
DTSTART;TZID=UTC:20250411T180000
DTEND;TZID=UTC:20250411T191500
DTSTAMP:20260425T073721
CREATED:20250312T185308Z
LAST-MODIFIED:20250312T210720Z
UID:3894-1744394400-1744398900@thedivinemotherhealer.com
SUMMARY:Kundalini Pop Up Yoga
DESCRIPTION:The Kundalini energy is the creative energy within all of us \nTap in to your lifeforce energy through guided breathwork\, transformative Kriyas (exercises) and meditative practice. \nOur 75 minute class invites you to connect with your inner energy and elevate your consciousness \nRegistration open until Apr 11th 7:15pm \nRegistration through fit Degree  HERE
URL:https://thedivinemotherhealer.com/event/kundalini-pop-up-yoga/
LOCATION:Iris Yoga\, 383 Broad Street\, Bloomfield\, NJ\, 07003\, United States
ATTACH;FMTTYPE=image/png:https://thedivinemotherhealer.com/wp-content/uploads/2025/03/pop-67.png
ORGANIZER;CN="Catherine Emporellis":MAILTO:catherine@thedivinemotherhealer.com
END:VEVENT
BEGIN:VEVENT
DTSTART;TZID=UTC:20250426T113000
DTEND;TZID=UTC:20250503T163000
DTSTAMP:20260425T073721
CREATED:20250221T212214Z
LAST-MODIFIED:20250422T170346Z
UID:3730-1745667000-1746289800@thedivinemotherhealer.com
SUMMARY:Reiki Practitioner Level 1 & 2 Training with Certification
DESCRIPTION:Reiki Practitioner Training ~ levels 1 & 2\n  \nThe journey into Reiki Level 1 & 2 is a journey of profound transformation\, and you’re invited to take the next step. I often hear students ask\, ‘Am I ready for this?’ and the truth is\, if you’re feeling even a gentle pull\, a whisper of guidance towards Reiki\, then yes\, you are. \n\n\n\n\nWe humans often stand in our own way\, resisting change out of fear. But Reiki is a path of gentle unfolding\, a journey of self-discovery and empowerment. Over two days\, you’ll learn the foundational practices and delve into the advanced techniques that empower professional practice. From self-healing to distance healing\, from balancing chakras to mastering sacred symbols\, you’ll gain the tools to make a real difference in your life and the lives of others.\n\n\n\n\n\nReiki Training in Wyckoff New Jersey\n2 Days of Training April 26 and May 3rd\nAre you ready to experience the impact of Reiki firsthand? To move from understanding to embodying this powerful healing art? To quiet the fear and step into your potential? \nSign up below to learn more about this transformative two-day training and begin your path to becoming a skilled and compassionate Reiki practitioner.” \nOnly a couple spots left !!\nRegister HERE \n\n\n** I do offer Klarna and After Pay – both these services will break down the upfront cost of the class and spread the payments over 4 months\, So you end up paying a low monthly payment ~ 🧘🌻🙌
URL:https://thedivinemotherhealer.com/event/reiki-level-1-2-training/
LOCATION:The Divine Mother Healer – Located in The Self Care Collective\, 365 Franklin Ave\, Wyckoff\, NJ\, 07481\, United States
CATEGORIES:Reiki Training
ATTACH;FMTTYPE=image/png:https://thedivinemotherhealer.com/wp-content/uploads/2025/04/4x6.png
ORGANIZER;CN="Catherine Emporellis":MAILTO:catherine@thedivinemotherhealer.com
END:VEVENT
END:VCALENDAR