BEGIN:VCALENDAR
VERSION:2.0
PRODID:-//Divine Mother Healer - ECPv6.15.20//NONSGML v1.0//EN
CALSCALE:GREGORIAN
METHOD:PUBLISH
X-WR-CALNAME:Divine Mother Healer
X-ORIGINAL-URL:https://thedivinemotherhealer.com
X-WR-CALDESC:Events for Divine Mother Healer
REFRESH-INTERVAL;VALUE=DURATION:PT1H
X-Robots-Tag:noindex
X-PUBLISHED-TTL:PT1H
BEGIN:VTIMEZONE
TZID:UTC
BEGIN:STANDARD
TZOFFSETFROM:+0000
TZOFFSETTO:+0000
TZNAME:UTC
DTSTART:20240101T000000
END:STANDARD
END:VTIMEZONE
BEGIN:VEVENT
DTSTART;TZID=UTC:20250303T170000
DTEND;TZID=UTC:20250303T180000
DTSTAMP:20260425T091606
CREATED:20250213T004733Z
LAST-MODIFIED:20250213T004733Z
UID:3627-1741021200-1741024800@thedivinemotherhealer.com
SUMMARY:Kundalini Yoga - Every Monday
DESCRIPTION:Mind\, Body\, & Spirit\n\n\n\n\nKundalini yoga is a unique and powerful practice that combines breathwork\, meditation\, and physical postures to unlock your inner energy. Unlike other forms of yoga\, Kundalini aims to awaken the dormant spiritual energy at the base of your spine\, also known as Kundalini energy\, and bring it up through each of the chakras. \n\nI lead classes every Monday and Wednesday at One Love Wellness \nMon 5:30-6:30pm \nWed 12-1:00pm \nSelect the day that works for you \nRegister HERE \n 
URL:https://thedivinemotherhealer.com/event/kundalini-yoga-every-monday-2/
LOCATION:One Love Wellness\, 10 S. Broad Street\, Ridgewood\, NJ\, 07450\, United States
CATEGORIES:Yoga
ATTACH;FMTTYPE=image/png:https://thedivinemotherhealer.com/wp-content/uploads/2025/01/imageedit_3_9533015843.png
ORGANIZER;CN="Catherine Emporellis":MAILTO:catherine@thedivinemotherhealer.com
END:VEVENT
BEGIN:VEVENT
DTSTART;TZID=UTC:20250305T120000
DTEND;TZID=UTC:20250305T130000
DTSTAMP:20260425T091606
CREATED:20250213T004648Z
LAST-MODIFIED:20250213T004648Z
UID:3625-1741176000-1741179600@thedivinemotherhealer.com
SUMMARY:Kundalini Yoga - Every Wednesday
DESCRIPTION:Mind\, Body\, & Spirit\n\n\n\n\nKundalini yoga is a unique and powerful practice that combines breathwork\, meditation\, and physical postures to unlock your inner energy. Unlike other forms of yoga\, Kundalini aims to awaken the dormant spiritual energy at the base of your spine\, also known as Kundalini energy\, and bring it up through each of the chakras. \n\nI lead classes every Monday and Wednesday at One Love Wellness \nMon 5:30-6:30pm \nWed 12-1:00pm \nRegister HERE \n 
URL:https://thedivinemotherhealer.com/event/kundalini-yoga-every-wednesday-2/
LOCATION:One Love Wellness\, 10 S. Broad Street\, Ridgewood\, NJ\, 07450\, United States
CATEGORIES:Yoga
ATTACH;FMTTYPE=image/png:https://thedivinemotherhealer.com/wp-content/uploads/2025/01/imageedit_3_9533015843.png
ORGANIZER;CN="Catherine Emporellis":MAILTO:catherine@thedivinemotherhealer.com
END:VEVENT
BEGIN:VEVENT
DTSTART;TZID=UTC:20250309T140000
DTEND;TZID=UTC:20250309T180000
DTSTAMP:20260425T091606
CREATED:20250213T180508Z
LAST-MODIFIED:20250214T202546Z
UID:3636-1741528800-1741543200@thedivinemotherhealer.com
SUMMARY:March Intuition Development Course
DESCRIPTION:Thrive Body & Soul\nThe location of the course is GROUND LEVEL\, 626 Main Rd\, Towaco\, NJ 07082\nTime: 2-6pm\n\n\n\n\nReady to tap into your innate wisdom and uncover the power of your intuition?! Join us for an immersive workshop designed to help you connect with your inner guidance and navigate life with greater insight and confidence. \nThis workshop is ideal for anyone interested in developing a deeper connection with their inner self\, enhancing their decision-making skills\, and exploring the mysteries of intuition. No prior experience is necessary—just an open mind and a willingness to explore. \nExpect dedicated time to learning and guided integration and practice. \nRegister HERE
URL:https://thedivinemotherhealer.com/event/march-intuition-development-course/
LOCATION:Thrive Body and Soul\, 626 Main Rd (GROUND LEVEL)\, Towaco\,\, NJ\, 07082\, United States
ATTACH;FMTTYPE=image/png:https://thedivinemotherhealer.com/wp-content/uploads/2025/02/Intuition-Development-Course-500.png
ORGANIZER;CN="Catherine Emporellis":MAILTO:catherine@thedivinemotherhealer.com
END:VEVENT
BEGIN:VEVENT
DTSTART;TZID=UTC:20250311T180000
DTEND;TZID=UTC:20250311T193000
DTSTAMP:20260425T091606
CREATED:20250115T194722Z
LAST-MODIFIED:20250213T001151Z
UID:3539-1741716000-1741721400@thedivinemotherhealer.com
SUMMARY:Group Kundalini Yoga + Meditation with Catherine Emporellis\,
DESCRIPTION:Join me\, Catherine Emporellis (Spiritual Name: Ananda Vedjeet Kaur)\, a Certified Kundalini Yoga Teacher from The Divine Mother Healer\, for a deeply transformative monthly journey within. Each class invites you to embark on a unique path of self-healing and self-discovery. Through a series of powerful Kundalini Yoga practices – including carefully chosen meditations\, dynamic postures\, and transformative breathwork – we’ll explore the subtle energy centers of your being (chakras). \nThis sacred space is designed to: \n\nDeepen your spiritual connection: Cultivate a stronger bond with your inner wisdom and the Universe.\nUnlock profound healing: Release emotional blockages and cultivate a sense of peace and well-being.\nJourney inward: Discover your true essence and the unique gifts you bring to the world.\n\nExperience the magic of Kundalini Yoga. Allow yourself to be guided on a path of self-discovery and transformation. \nRegister now to deepen your connection to Self.  \nRegister HERE \n\nA message from Ananda Vedjeet Kaur: Kundalini Yoga found me during one of the darkest periods of my life. I was swept up in a sea of suppressed emotions\, desperately trying to navigate the murky waters of my own psyche. Therapy with a shamanic psychotherapist helped me peel back the layers of denial\, but as I began to feel again\, a profound emptiness emerged – a gaping void in my heart and throat. \nI sought healing in Western medicine\, convinced the pain was physical. But tests yielded no answers\, leaving me adrift in a sea of confusion and despair. Then\, a lifeline appeared: my first Kundalini Yoga teacher introduced me to a powerful yoga  and meditation practice. \nThe transformation was immediate. After just one practice\, a sense of lightness\, a glimmer of hope\, began to pierce the darkness. Committing to a 40-day daily practice deepened this experience\, revealing the profound power of Kundalini Yoga to heal not just the body\, but the mind and spirit. \nThis journey of self-discovery has become my life’s work. With gratitude and service\, I share these teachings\, guiding others to find their own light within. \n\n\n\n\nWith gratitude & service\,\nCatherine Emporellis
URL:https://thedivinemotherhealer.com/event/group-kundalini-yoga-meditation-with-catherine-emporellis/
LOCATION:The Space by Lisa Annese\, 362 Main Street\, Suite\, 101 + 201\, Wyckoff\, NJ\, 07724\, United States
CATEGORIES:Yoga
ATTACH;FMTTYPE=image/png:https://thedivinemotherhealer.com/wp-content/uploads/2025/01/Tuesdays-Chakra-Series-Flyer-600.png
ORGANIZER;CN="Catherine Emporellis":MAILTO:catherine@thedivinemotherhealer.com
END:VEVENT
BEGIN:VEVENT
DTSTART;TZID=UTC:20250319T190000
DTEND;TZID=UTC:20250326T200000
DTSTAMP:20260425T091606
CREATED:20250228T234758Z
LAST-MODIFIED:20250307T013721Z
UID:3838-1742410800-1743019200@thedivinemotherhealer.com
SUMMARY:Group SoulSpark Reiki & Akashic Records Circle
DESCRIPTION:Experience deep relaxation and intuitive guidance in our Reiki & Akashic Records Circle group class. We’ll explore your energetic field and receive personalized messages\, fostering inner harmony and clarity.\n\n\n\nThe Divine Mother Healer ~ located in the Self Care Collective\n365 Franklin Ave\, Second Floor\, Wyckoff\, New Jersey 07481\n\n\n\n\n$99 USD\n\nEvery Wednesday Starting March 19th\n\n\nREGISTER HERE\n\nJoin Catherine\, The Divine Mother Healer\, for an evening of guided Reiki\, Akashic Records and intuitive messages\, designed to align your life-force energy and explore themes in this lifetime\, potentially touching upon past life experiences.\n\n\n\n\n\n\nThis meditative experience allows for intention setting\, Reiki energy healing\, and a personalized intuitive message via your Akashic Records during deep relaxation. \nIf you have any questions\, kindly contact Catherine via phone or text at (201) 289 – 3963.
URL:https://thedivinemotherhealer.com/event/group-soulspark-reiki-akashic-records-circle/
LOCATION:The Divine Mother Healer – Located in The Self Care Collective\, 365 Franklin Ave\, Wyckoff\, NJ\, 07481\, United States
CATEGORIES:Intuition / Healing
ATTACH;FMTTYPE=image/jpeg:https://thedivinemotherhealer.com/wp-content/uploads/2023/12/akashic-record-session.jpg
ORGANIZER;CN="Catherine Emporellis":MAILTO:catherine@thedivinemotherhealer.com
END:VEVENT
BEGIN:VEVENT
DTSTART;TZID=UTC:20250322T113000
DTEND;TZID=UTC:20250322T163000
DTSTAMP:20260425T091606
CREATED:20250108T213639Z
LAST-MODIFIED:20250113T235255Z
UID:3486-1742643000-1742661000@thedivinemotherhealer.com
SUMMARY:Reiki Master Level "Ignite Your Reiki Power: Holy Fire III Master Training"
DESCRIPTION:Elevate your Reiki practice with the transformative Holy Fire III Master Training. \nExperience profound spiritual growth: Receive the Holy Fire Ignitions\, clearing blockages and aligning you with the highest vibrational energy. \nAccess greater healing potential: Learn to work with powerful new symbols\, including the exclusive Holy Fire Master Symbol\, for enhanced healing and spiritual connection. \nBecome a beacon of light: Empower yourself and others with the transformative energy of Holy Fire Reiki. \nThis training is for already Reiki Masters and Level II practitioners seeking to deepen their practice and unlock their full healing potential. \nKey Benefits: \nEnhanced Reiki Sessions: Deliver more powerful and effective treatments. \nDeepened Spiritual Connection: Experience profound inner peace and a stronger connection to your higher self. \nExpanded Healing Abilities: Access new healing modalities and techniques. \nReady to ignite your Reiki journey? \nRegister HERE \n** I do offer Klarna – break down the payments over 4 months
URL:https://thedivinemotherhealer.com/event/reiki-master-level-ignite-your-reiki-power-holy-fire-iii-master-training/
LOCATION:One Love Wellness\, 10 S. Broad Street\, Ridgewood\, NJ\, 07450\, United States
CATEGORIES:Reiki Training
ATTACH;FMTTYPE=image/png:https://thedivinemotherhealer.com/wp-content/uploads/2025/01/2025-onelove-reiki-master-training-1.png
ORGANIZER;CN="Catherine Emporellis":MAILTO:catherine@thedivinemotherhealer.com
END:VEVENT
BEGIN:VEVENT
DTSTART;TZID=UTC:20250325T190000
DTEND;TZID=UTC:20250325T203000
DTSTAMP:20260425T091606
CREATED:20250228T233929Z
LAST-MODIFIED:20250307T013432Z
UID:3835-1742929200-1742934600@thedivinemotherhealer.com
SUMMARY:Group Kundalini Yoga Class
DESCRIPTION:Group Kundalini Yoga Class\n\n\n\n\n\n1 hr 30 min \n\n\n\nThe Divine Mother Healer ~ Located at the Self Care Collective\n365 Franklin Ave\, Second Floor\, Wyckoff NJ 07481\n\n\n\n\n$30 USD\n\n\n\n7:00pm – 8:30pm\, Tuesday\, March 25\, 2025\n\nEastern Time – US & Canada\n\n\nREGISTER HERE\n\n\n\n\n\n\nDiscover the collective power of Kundalini Yoga and ignite your inner radiance! \nJoin us for a 90-minute group journey where we’ll tap into the radiant energy within. Through powerful pranayama (breathwork)\, dynamic kriyas (exercises)\, and deeply restorative meditation\, we’ll awaken your Kundalini energy\, the creative life force residing within. \nThis class is designed to help you find your personal flow within a supportive community\, leaving you feeling balanced and deeply connected. Whether you’re new to Kundalini or a seasoned practitioner\, this class offers a rich and fulfilling experience. \nIf you have any questions\, kindly contact Catherine via phone or text at (201) 289 – 3963.
URL:https://thedivinemotherhealer.com/event/group-kundalini-yoga-class/
LOCATION:The Divine Mother Healer – Located in The Self Care Collective\, 365 Franklin Ave\, Wyckoff\, NJ\, 07481\, United States
CATEGORIES:Yoga
ATTACH;FMTTYPE=image/png:https://thedivinemotherhealer.com/wp-content/uploads/2024/08/y-561.png
ORGANIZER;CN="Catherine Emporellis":MAILTO:catherine@thedivinemotherhealer.com
END:VEVENT
BEGIN:VEVENT
DTSTART;TZID=UTC:20250328T180000
DTEND;TZID=UTC:20250328T193000
DTSTAMP:20260425T091606
CREATED:20250213T180813Z
LAST-MODIFIED:20250213T180813Z
UID:3640-1743184800-1743190200@thedivinemotherhealer.com
SUMMARY:Pop Up Kundalini Yoga Class ~ Thrive Body & Soul
DESCRIPTION:Kundalini energy is the creative life force that lives within all of us.\nIn this 75 minute class you can expect guided pranayama (breathwork)\, a set of kriyas (exercises) resulting in noticeable energetic effects\, and a beautiful meditation. Kundalini Yoga is an inward personal experience at your own pace.\, and It would be an honor to host you in this practice. \n \nAny and all are welcome. Details and Sign Up HERE \nTHRIVE BODY & SOUL \n626 Main Rd (GROUND LEVEL) \nTowaco\, NJ 07082 \n(973) 370-5934 \ninfo@thrivebodysoul.com \n 
URL:https://thedivinemotherhealer.com/event/pop-up-kundalini-yoga-class-thrive-body-soul-2/
LOCATION:Thrive Body and Soul\, 626 Main Rd (GROUND LEVEL)\, Towaco\,\, NJ\, 07082\, United States
ATTACH;FMTTYPE=image/png:https://thedivinemotherhealer.com/wp-content/uploads/2024/11/Screenshot-2024-11-30-113712.png
ORGANIZER;CN="Catherine Emporellis":MAILTO:catherine@thedivinemotherhealer.com
END:VEVENT
BEGIN:VEVENT
DTSTART;TZID=UTC:20250329T113000
DTEND;TZID=UTC:20250329T163000
DTSTAMP:20260425T091606
CREATED:20250108T214700Z
LAST-MODIFIED:20250113T235109Z
UID:3492-1743247800-1743265800@thedivinemotherhealer.com
SUMMARY:Reiki Master Level "Ignite Your Reiki Power: Holy Fire III Master Training"
DESCRIPTION:Elevate your Reiki practice with the transformative Holy Fire III Master Training. \nExperience profound spiritual growth: Receive the Holy Fire Ignitions\, clearing blockages and aligning you with the highest vibrational energy. \nAccess greater healing potential: Learn to work with powerful new symbols\, including the exclusive Holy Fire Master Symbol\, for enhanced healing and spiritual connection. \nBecome a beacon of light: Empower yourself and others with the transformative energy of Holy Fire Reiki. \nThis training is for already Reiki Masters and Level II practitioners seeking to deepen their practice and unlock their full healing potential. \nKey Benefits: \nEnhanced Reiki Sessions: Deliver more powerful and effective treatments. \nDeepened Spiritual Connection: Experience profound inner peace and a stronger connection to your higher self. \nExpanded Healing Abilities: Access new healing modalities and techniques. \nReady to ignite your Reiki journey? \nRegister HERE \n** I do offer Klarna – break down the payments over 4 months
URL:https://thedivinemotherhealer.com/event/reiki-master-level-ignite-your-reiki-power-holy-fire-iii-master-training-2/
LOCATION:One Love Wellness\, 10 S. Broad Street\, Ridgewood\, NJ\, 07450\, United States
CATEGORIES:Reiki Training
ATTACH;FMTTYPE=image/png:https://thedivinemotherhealer.com/wp-content/uploads/2025/01/onelove-500.png
ORGANIZER;CN="Catherine Emporellis":MAILTO:catherine@thedivinemotherhealer.com
END:VEVENT
END:VCALENDAR