BEGIN:VCALENDAR
VERSION:2.0
PRODID:-//Divine Mother Healer - ECPv6.15.20//NONSGML v1.0//EN
CALSCALE:GREGORIAN
METHOD:PUBLISH
X-WR-CALNAME:Divine Mother Healer
X-ORIGINAL-URL:https://thedivinemotherhealer.com
X-WR-CALDESC:Events for Divine Mother Healer
REFRESH-INTERVAL;VALUE=DURATION:PT1H
X-Robots-Tag:noindex
X-PUBLISHED-TTL:PT1H
BEGIN:VTIMEZONE
TZID:UTC
BEGIN:STANDARD
TZOFFSETFROM:+0000
TZOFFSETTO:+0000
TZNAME:UTC
DTSTART:20230101T000000
END:STANDARD
END:VTIMEZONE
BEGIN:VTIMEZONE
TZID:America/New_York
BEGIN:DAYLIGHT
TZOFFSETFROM:-0500
TZOFFSETTO:-0400
TZNAME:EDT
DTSTART:20230312T070000
END:DAYLIGHT
BEGIN:STANDARD
TZOFFSETFROM:-0400
TZOFFSETTO:-0500
TZNAME:EST
DTSTART:20231105T060000
END:STANDARD
BEGIN:DAYLIGHT
TZOFFSETFROM:-0500
TZOFFSETTO:-0400
TZNAME:EDT
DTSTART:20240310T070000
END:DAYLIGHT
BEGIN:STANDARD
TZOFFSETFROM:-0400
TZOFFSETTO:-0500
TZNAME:EST
DTSTART:20241103T060000
END:STANDARD
BEGIN:DAYLIGHT
TZOFFSETFROM:-0500
TZOFFSETTO:-0400
TZNAME:EDT
DTSTART:20250309T070000
END:DAYLIGHT
BEGIN:STANDARD
TZOFFSETFROM:-0400
TZOFFSETTO:-0500
TZNAME:EST
DTSTART:20251102T060000
END:STANDARD
END:VTIMEZONE
BEGIN:VEVENT
DTSTART;TZID=UTC:20250211T180000
DTEND;TZID=UTC:20250211T193000
DTSTAMP:20260425T111532
CREATED:20250115T193720Z
LAST-MODIFIED:20250115T194617Z
UID:3532-1739296800-1739302200@thedivinemotherhealer.com
SUMMARY:Group Kundalini Yoga + Meditation with Catherine Emporellis\,
DESCRIPTION:Join me\, Catherine Emporellis (Spiritual Name: Ananda Vedjeet Kaur)\, a Certified Kundalini Yoga Teacher from The Divine Mother Healer\, for a deeply transformative monthly journey within. Each class invites you to embark on a unique path of self-healing and self-discovery. Through a series of powerful Kundalini Yoga practices – including carefully chosen meditations\, dynamic postures\, and transformative breathwork – we’ll explore the subtle energy centers of your being (chakras). \nThis sacred space is designed to: \n\nDeepen your spiritual connection: Cultivate a stronger bond with your inner wisdom and the Universe.\nUnlock profound healing: Release emotional blockages and cultivate a sense of peace and well-being.\nJourney inward: Discover your true essence and the unique gifts you bring to the world.\n\nExperience the magic of Kundalini Yoga. Allow yourself to be guided on a path of self-discovery and transformation. \nRegister now to deepen your connection to Self.  \nRegister HERE \n\nA message from Ananda Vedjeet Kaur: Kundalini Yoga found me during one of the darkest periods of my life. I was swept up in a sea of suppressed emotions\, desperately trying to navigate the murky waters of my own psyche. Therapy with a shamanic psychotherapist helped me peel back the layers of denial\, but as I began to feel again\, a profound emptiness emerged – a gaping void in my heart and throat. \nI sought healing in Western medicine\, convinced the pain was physical. But tests yielded no answers\, leaving me adrift in a sea of confusion and despair. Then\, a lifeline appeared: my first Kundalini Yoga teacher introduced me to a powerful yoga  and meditation practice. \nThe transformation was immediate. After just one practice\, a sense of lightness\, a glimmer of hope\, began to pierce the darkness. Committing to a 40-day daily practice deepened this experience\, revealing the profound power of Kundalini Yoga to heal not just the body\, but the mind and spirit. \nThis journey of self-discovery has become my life’s work. With gratitude and service\, I share these teachings\, guiding others to find their own light within. \n\n\n\n\nWith gratitude & service\,\nCatherine Emporellis
URL:https://thedivinemotherhealer.com/event/3532/
LOCATION:The Space by Lisa Annese\, 362 Main Street\, Suite\, 101 + 201\, Wyckoff\, NJ\, 07724\, United States
CATEGORIES:Yoga
ATTACH;FMTTYPE=image/png:https://thedivinemotherhealer.com/wp-content/uploads/2025/01/Tuesdays-Chakra-Series-Flyer-600.png
ORGANIZER;CN="Catherine Emporellis":MAILTO:catherine@thedivinemotherhealer.com
END:VEVENT
BEGIN:VEVENT
DTSTART;TZID=UTC:20250208T113000
DTEND;TZID=UTC:20250208T163000
DTSTAMP:20260425T111532
CREATED:20241130T223613Z
LAST-MODIFIED:20241130T223613Z
UID:3432-1739014200-1739032200@thedivinemotherhealer.com
SUMMARY:Usui / Holy Fire Reiki III
DESCRIPTION:“This is a beginners certification Reiki training where students will receive the ability to channel Reiki on themselves and others. \nWe learn about the history of Reiki\, take a deep dive into the Chakra/Aura systems and receive 3 Reiki Attunements and 2 Reiki Placements. Students will also learn how to start their own Reiki business. \nThe new Reiki Healers will graduate this training feeling empowered and supported to continue growing and building their relationship with Reiki. \nYou can register HERE \nWe do offer the monthly payment breakdown through KLARNA \nIf you want more information – let’s set up a call – HERE
URL:https://thedivinemotherhealer.com/event/usui-holy-fire-reiki-iii-4/
LOCATION:Thrive Body and Soul\, 626 Main Rd (GROUND LEVEL)\, Towaco\,\, NJ\, 07082\, United States
CATEGORIES:Reiki Training
ATTACH;FMTTYPE=image/png:https://thedivinemotherhealer.com/wp-content/uploads/2024/11/Thrive-Body-Soul.png
ORGANIZER;CN="Catherine Emporellis":MAILTO:catherine@thedivinemotherhealer.com
END:VEVENT
BEGIN:VEVENT
DTSTART;TZID=UTC:20250203T173000
DTEND;TZID=UTC:20250203T183000
DTSTAMP:20260425T111532
CREATED:20250111T014348Z
LAST-MODIFIED:20250111T014641Z
UID:3509-1738603800-1738607400@thedivinemotherhealer.com
SUMMARY:Kundalini Yoga - Every Monday in February
DESCRIPTION:Mind\, Body\, & Spirit\n\n\n\n\nKundalini yoga is a unique and powerful practice that combines breathwork\, meditation\, and physical postures to unlock your inner energy. Unlike other forms of yoga\, Kundalini aims to awaken the dormant spiritual energy at the base of your spine\, also known as Kundalini energy\, and bring it up through each of the chakras. \n\nI lead classes every Monday and Wednesday at One Love Wellness \nMon 5:30-6:30pm \nWed 12-1:00pm \nRegister HERE \n 
URL:https://thedivinemotherhealer.com/event/kundalini-yoga-every-monday-in-february/
LOCATION:One Love Wellness\, 10 S. Broad Street\, Ridgewood\, NJ\, 07450\, United States
CATEGORIES:Yoga
ATTACH;FMTTYPE=image/png:https://thedivinemotherhealer.com/wp-content/uploads/2025/01/Screenshot-2025-01-10-152906.png
ORGANIZER;CN="Catherine Emporellis":MAILTO:catherine@thedivinemotherhealer.com
END:VEVENT
BEGIN:VEVENT
DTSTART;TZID=UTC:20250201T113000
DTEND;TZID=UTC:20250201T163000
DTSTAMP:20260425T111532
CREATED:20241130T223451Z
LAST-MODIFIED:20241130T223451Z
UID:3429-1738409400-1738427400@thedivinemotherhealer.com
SUMMARY:Usui / Holy Fire Reiki III
DESCRIPTION:“This is a beginners certification Reiki training where students will receive the ability to channel Reiki on themselves and others. \nWe learn about the history of Reiki\, take a deep dive into the Chakra/Aura systems and receive 3 Reiki Attunements and 2 Reiki Placements. Students will also learn how to start their own Reiki business. \nThe new Reiki Healers will graduate this training feeling empowered and supported to continue growing and building their relationship with Reiki. \nYou can register HERE \nWe do offer the monthly payment breakdown through KLARNA \nIf you want more information – let’s set up a call – HERE
URL:https://thedivinemotherhealer.com/event/usui-holy-fire-reiki-iii-3/
LOCATION:Thrive Body and Soul\, 626 Main Rd (GROUND LEVEL)\, Towaco\,\, NJ\, 07082\, United States
CATEGORIES:Reiki Training
ATTACH;FMTTYPE=image/png:https://thedivinemotherhealer.com/wp-content/uploads/2024/11/Thrive-Body-Soul.png
ORGANIZER;CN="Catherine Emporellis":MAILTO:catherine@thedivinemotherhealer.com
END:VEVENT
BEGIN:VEVENT
DTSTART;TZID=UTC:20250131T180000
DTEND;TZID=UTC:20250131T191500
DTSTAMP:20260425T111532
CREATED:20241130T224242Z
LAST-MODIFIED:20241130T224242Z
UID:3434-1738346400-1738350900@thedivinemotherhealer.com
SUMMARY:Kundalini Yoga
DESCRIPTION:Pop Up Kundalini Yoga Classes – offered the last Friday of Every Month \nKundalini yoga is a unique and powerful practice that combines breathwork\, meditation\, and physical postures to unlock your inner energy. Unlike other forms of yoga\, Kundalini aims to awaken the dormant spiritual energy at the base of your spine\, also known as Kundalini energy\, and bring it up through each of the chakras. This practice offers a holistic approach to well-being\, making it ideal for beginners looking to improve both their physical and mental health. \nYou can register HERE \nIf you want more information – let’s set up a call – HERE
URL:https://thedivinemotherhealer.com/event/kundalini-yoga/
LOCATION:Thrive Body and Soul\, 626 Main Rd (GROUND LEVEL)\, Towaco\,\, NJ\, 07082\, United States
CATEGORIES:Yoga
ATTACH;FMTTYPE=image/png:https://thedivinemotherhealer.com/wp-content/uploads/2024/11/Thrive-Kundalini-Pop-Up-Class-Flyer-Jan.png
ORGANIZER;CN="Catherine Emporellis":MAILTO:catherine@thedivinemotherhealer.com
END:VEVENT
BEGIN:VEVENT
DTSTART;TZID=UTC:20250126T140000
DTEND;TZID=UTC:20250126T180000
DTSTAMP:20260425T111532
CREATED:20241130T225828Z
LAST-MODIFIED:20241130T225947Z
UID:3440-1737900000-1737914400@thedivinemotherhealer.com
SUMMARY:Intuition Course
DESCRIPTION:“New to intuition? No problem! Our Intuition Development Course is designed for absolute beginners. We’ll guide you step-by-step\, creating a safe and supportive space for you to explore your inner world. Interest free payment plans available when you follow the link or scan the QR code.”\n\nTo Register Click HERE\n\nFor More Information Schedule a Call with Me HERE
URL:https://thedivinemotherhealer.com/event/intuition-course/
LOCATION:The Sanctuary For Wellness\, 206 Bellevue Ave 2F\, Montclair\, NJ\, 07043\, United States
CATEGORIES:Intuition / Healing
ATTACH;FMTTYPE=image/png:https://thedivinemotherhealer.com/wp-content/uploads/2024/11/Intuition-Course-Santuary-For-Wellness.png
ORGANIZER;CN="Catherine Emporellis":MAILTO:catherine@thedivinemotherhealer.com
END:VEVENT
BEGIN:VEVENT
DTSTART;TZID=UTC:20250120T173000
DTEND;TZID=UTC:20250120T183000
DTSTAMP:20260425T111532
CREATED:20250113T235744Z
LAST-MODIFIED:20250113T235744Z
UID:3530-1737394200-1737397800@thedivinemotherhealer.com
SUMMARY:Kundalini Yoga - Every Monday in January
DESCRIPTION:Mind\, Body\, & Spirit\n\n\n\n\nKundalini yoga is a unique and powerful practice that combines breathwork\, meditation\, and physical postures to unlock your inner energy. Unlike other forms of yoga\, Kundalini aims to awaken the dormant spiritual energy at the base of your spine\, also known as Kundalini energy\, and bring it up through each of the chakras. \n\nI lead classes every Monday and Wednesday at One Love Wellness \nMon 5:30-6:30pm \nWed 12-1:00pm \nRegister HERE \n 
URL:https://thedivinemotherhealer.com/event/kundalini-yoga-every-monday-in-january/
LOCATION:One Love Wellness\, 10 S. Broad Street\, Ridgewood\, NJ\, 07450\, United States
CATEGORIES:Yoga
ATTACH;FMTTYPE=image/png:https://thedivinemotherhealer.com/wp-content/uploads/2025/01/Screenshot-2025-01-10-152906.png
ORGANIZER;CN="Catherine Emporellis":MAILTO:catherine@thedivinemotherhealer.com
END:VEVENT
BEGIN:VEVENT
DTSTART;TZID=UTC:20250118T113000
DTEND;TZID=UTC:20250118T163000
DTSTAMP:20260425T111532
CREATED:20241130T222833Z
LAST-MODIFIED:20241130T223529Z
UID:3427-1737199800-1737217800@thedivinemotherhealer.com
SUMMARY:Usui / Holy Fire Reiki III
DESCRIPTION:“This is a beginners certification Reiki training where students will receive the ability to channel Reiki on themselves and others. \nWe learn about the history of Reiki\, take a deep dive into the Chakra/Aura systems and receive 3 Reiki Attunements and 2 Reiki Placements. Students will also learn how to start their own Reiki business. \nThe new Reiki Healers will graduate this training feeling empowered and supported to continue growing and building their relationship with Reiki. \nYou can register HERE \nWe do offer the monthly payment breakdown through KLARNA \nIf you want more information – let’s set up a call – HERE
URL:https://thedivinemotherhealer.com/event/usui-holy-fire-reiki-iii-2/
LOCATION:Quantum Holistic Therapy\, 209 Cooper Ave Suite 11\, Second Floor\, Montclair Township\, NJ\, 07043\, United States
CATEGORIES:Reiki Training
ATTACH;FMTTYPE=image/png:https://thedivinemotherhealer.com/wp-content/uploads/2024/11/Jan-2025-Reiki-1-2.png
ORGANIZER;CN="Catherine Emporellis":MAILTO:catherine@thedivinemotherhealer.com
END:VEVENT
BEGIN:VEVENT
DTSTART;TZID=UTC:20250117T180000
DTEND;TZID=UTC:20250117T193000
DTSTAMP:20260425T111532
CREATED:20250108T212824Z
LAST-MODIFIED:20250108T212824Z
UID:3483-1737136800-1737142200@thedivinemotherhealer.com
SUMMARY:Enhanced Reiki Sessions: Deliver more powerful and effective treatments.
DESCRIPTION:Restore & Heal Event Description: Release stress and find deep inner peace. Join Brandi Rima\, Joelle Tramel\, and Catherine Emporellis\, Registered Yoga Teachers & Holy Fire Reiki Masters\, for an evening of profound relaxation. Immerse yourself in the gentle flow of restorative yoga and meditative journey enhanced by the healing energy of Reiki. Allow stress to melt away as you experience a state of deep tranquility and rejuvenation. Personalized intuitive messages will be offered as a gift. \nRestore & Heal Event Link to Sign up: https://buy.stripe.com/4gw5lj1wfeCKg24dRs \n 
URL:https://thedivinemotherhealer.com/event/enhanced-reiki-sessions-deliver-more-powerful-and-effective-treatments/
LOCATION:Quantum Holistic Therapy\, 209 Cooper Ave Suite 11\, Second Floor\, Montclair Township\, NJ\, 07043\, United States
CATEGORIES:Intuition / Healing
ATTACH;FMTTYPE=image/png:https://thedivinemotherhealer.com/wp-content/uploads/2025/01/11725-RR-Quantum-500.png
ORGANIZER;CN="Catherine Emporellis":MAILTO:catherine@thedivinemotherhealer.com
END:VEVENT
BEGIN:VEVENT
DTSTART;TZID=UTC:20250113T173000
DTEND;TZID=UTC:20250113T183000
DTSTAMP:20260425T111532
CREATED:20250111T013649Z
LAST-MODIFIED:20250111T014158Z
UID:3501-1736789400-1736793000@thedivinemotherhealer.com
SUMMARY:Kundalini Yoga - Every Monday in January
DESCRIPTION:Mind\, Body\, & Spirit\n\n\n\n\nKundalini yoga is a unique and powerful practice that combines breathwork\, meditation\, and physical postures to unlock your inner energy. Unlike other forms of yoga\, Kundalini aims to awaken the dormant spiritual energy at the base of your spine\, also known as Kundalini energy\, and bring it up through each of the chakras. \n\nI lead classes every Monday and Wednesday at One Love Wellness \nMon 5:30-6:30pm \nWed 12-1:00pm \nRegister HERE \n 
URL:https://thedivinemotherhealer.com/event/kundalini-yoga-2/
LOCATION:One Love Wellness\, 10 S. Broad Street\, Ridgewood\, NJ\, 07450\, United States
CATEGORIES:Yoga
ATTACH;FMTTYPE=image/png:https://thedivinemotherhealer.com/wp-content/uploads/2025/01/Screenshot-2025-01-10-152906.png
ORGANIZER;CN="Catherine Emporellis":MAILTO:catherine@thedivinemotherhealer.com
END:VEVENT
BEGIN:VEVENT
DTSTART;TZID=UTC:20250111T113000
DTEND;TZID=UTC:20250111T163000
DTSTAMP:20260425T111532
CREATED:20241130T222434Z
LAST-MODIFIED:20241130T222744Z
UID:3422-1736595000-1736613000@thedivinemotherhealer.com
SUMMARY:Usui / Holy Fire Reiki III
DESCRIPTION:“This is a beginners certification Reiki training where students will receive the ability to channel Reiki on themselves and others. \nWe learn about the history of Reiki\, take a deep dive into the Chakra/Aura systems and receive 3 Reiki Attunements and 2 Reiki Placements. Students will also learn how to start their own Reiki business. \nThe new Reiki Healers will graduate this training feeling empowered and supported to continue growing and building their relationship with Reiki. \nYou can register HERE \nWe do offer the monthly payment breakdown through KLARNA \nIf you want more information – let’s set up a call – HERE
URL:https://thedivinemotherhealer.com/event/usui-holy-fire-reiki-iii/
LOCATION:Quantum Holistic Therapy\, 209 Cooper Ave Suite 11\, Second Floor\, Montclair Township\, NJ\, 07043\, United States
CATEGORIES:Reiki Training
ATTACH;FMTTYPE=image/png:https://thedivinemotherhealer.com/wp-content/uploads/2024/11/Jan-2025-Reiki-1-2.png
ORGANIZER;CN="Catherine Emporellis":MAILTO:catherine@thedivinemotherhealer.com
END:VEVENT
BEGIN:VEVENT
DTSTART;TZID=America/New_York:20241123T113000
DTEND;TZID=America/New_York:20241123T163000
DTSTAMP:20260425T111532
CREATED:20241119T010056Z
LAST-MODIFIED:20241119T193134Z
UID:3287-1732361400-1732379400@thedivinemotherhealer.com
SUMMARY:Usui / Holy Fire III Reiki Healer Training
DESCRIPTION:This is a beginners certification Reiki training where students will receive the ability to channel Reiki on themselves and others. \nWe learn about the history of Reiki\, take a deep dive into the Chakra/Aura systems and receive 3 Reiki Attunements and 2 Reiki Placements. Students will also learn how to start their own Reiki business. \nThe new Reiki Healers will graduate this training feeling empowered and supported to continue growing and building their relationship with Reiki. \nIf you are interested\, but would like more info\, schedule a call with me — HERE \nRegister — HERE
URL:https://thedivinemotherhealer.com/event/usui-holy-fire-iii-reiki-healer-training/
LOCATION:Mana Power Yoga\, 1958 Washington Valley Road\, Martinsville\, NJ\, 08836\, United States
CATEGORIES:Reiki Training
ATTACH;FMTTYPE=image/png:https://thedivinemotherhealer.com/wp-content/uploads/2024/09/r-50s.png
ORGANIZER;CN="Catherine Emporellis":MAILTO:catherine@thedivinemotherhealer.com
END:VEVENT
BEGIN:VEVENT
DTSTART;TZID=UTC:20241121T080000
DTEND;TZID=UTC:20241203T170000
DTSTAMP:20260425T111532
CREATED:20241121T210003Z
LAST-MODIFIED:20241130T222551Z
UID:3349-1732176000-1733245200@thedivinemotherhealer.com
SUMMARY:Win A Free Healing Session with Me
DESCRIPTION:✨🧘‍♀️The holidays are the perfect time to reflect\, reset\, and realign\, which is why hosting this giveaway felt so aligned.💫 \nYou can let your intuition choose between: \n🔮 Akashic Records Reading \n✨ Reiki Healing Session \n🌟 Or a powerful combo of both—your intuition will guide the way! \nClick Here👇 \nhttps://www.instagram.com/p/DC7vxTwPvqS/ \n1️. Like this post \n2️. Tag 2 friends who would love this! \n3️. Share this post to your story and don’t forget to tag me so I can see it! \n  \n🌟 The winner will be announced on December 3rd! \n  \n🪽Let’s make this holiday season lighter\, brighter\, and full of healing magic. Good luck! 🕊️
URL:https://thedivinemotherhealer.com/event/win-a-free-healing-session-with-me/
LOCATION:Catherine Emporellis Office\, 365 Franklin Ave Suite 201\, Second Floor\,\, Wyckoff\, NJ\, 07481\, United States
CATEGORIES:Free Event
ATTACH;FMTTYPE=image/png:https://thedivinemotherhealer.com/wp-content/uploads/2024/11/Screenshot-2024-11-21-105551.png
ORGANIZER;CN="Catherine Emporellis":MAILTO:catherine@thedivinemotherhealer.com
END:VEVENT
END:VCALENDAR