BEGIN:VCALENDAR
VERSION:2.0
PRODID:-//Divine Mother Healer - ECPv6.15.20//NONSGML v1.0//EN
CALSCALE:GREGORIAN
METHOD:PUBLISH
X-WR-CALNAME:Divine Mother Healer
X-ORIGINAL-URL:https://thedivinemotherhealer.com
X-WR-CALDESC:Events for Divine Mother Healer
REFRESH-INTERVAL;VALUE=DURATION:PT1H
X-Robots-Tag:noindex
X-PUBLISHED-TTL:PT1H
BEGIN:VTIMEZONE
TZID:America/New_York
BEGIN:DAYLIGHT
TZOFFSETFROM:-0500
TZOFFSETTO:-0400
TZNAME:EDT
DTSTART:20230312T070000
END:DAYLIGHT
BEGIN:STANDARD
TZOFFSETFROM:-0400
TZOFFSETTO:-0500
TZNAME:EST
DTSTART:20231105T060000
END:STANDARD
BEGIN:DAYLIGHT
TZOFFSETFROM:-0500
TZOFFSETTO:-0400
TZNAME:EDT
DTSTART:20240310T070000
END:DAYLIGHT
BEGIN:STANDARD
TZOFFSETFROM:-0400
TZOFFSETTO:-0500
TZNAME:EST
DTSTART:20241103T060000
END:STANDARD
BEGIN:DAYLIGHT
TZOFFSETFROM:-0500
TZOFFSETTO:-0400
TZNAME:EDT
DTSTART:20250309T070000
END:DAYLIGHT
BEGIN:STANDARD
TZOFFSETFROM:-0400
TZOFFSETTO:-0500
TZNAME:EST
DTSTART:20251102T060000
END:STANDARD
END:VTIMEZONE
BEGIN:VEVENT
DTSTART;TZID=America/New_York:20241123T113000
DTEND;TZID=America/New_York:20241123T163000
DTSTAMP:20260425T194754
CREATED:20241119T010056Z
LAST-MODIFIED:20241119T193134Z
UID:3287-1732361400-1732379400@thedivinemotherhealer.com
SUMMARY:Usui / Holy Fire III Reiki Healer Training
DESCRIPTION:This is a beginners certification Reiki training where students will receive the ability to channel Reiki on themselves and others. \nWe learn about the history of Reiki\, take a deep dive into the Chakra/Aura systems and receive 3 Reiki Attunements and 2 Reiki Placements. Students will also learn how to start their own Reiki business. \nThe new Reiki Healers will graduate this training feeling empowered and supported to continue growing and building their relationship with Reiki. \nIf you are interested\, but would like more info\, schedule a call with me — HERE \nRegister — HERE
URL:https://thedivinemotherhealer.com/event/usui-holy-fire-iii-reiki-healer-training/
LOCATION:Mana Power Yoga\, 1958 Washington Valley Road\, Martinsville\, NJ\, 08836\, United States
CATEGORIES:Reiki Training
ATTACH;FMTTYPE=image/png:https://thedivinemotherhealer.com/wp-content/uploads/2024/09/r-50s.png
ORGANIZER;CN="Catherine Emporellis":MAILTO:catherine@thedivinemotherhealer.com
END:VEVENT
END:VCALENDAR