BEGIN:VCALENDAR
VERSION:2.0
PRODID:-//Divine Mother Healer - ECPv6.15.20//NONSGML v1.0//EN
CALSCALE:GREGORIAN
METHOD:PUBLISH
X-WR-CALNAME:Divine Mother Healer
X-ORIGINAL-URL:https://thedivinemotherhealer.com
X-WR-CALDESC:Events for Divine Mother Healer
REFRESH-INTERVAL;VALUE=DURATION:PT1H
X-Robots-Tag:noindex
X-PUBLISHED-TTL:PT1H
BEGIN:VTIMEZONE
TZID:America/New_York
BEGIN:DAYLIGHT
TZOFFSETFROM:-0500
TZOFFSETTO:-0400
TZNAME:EDT
DTSTART:20250309T070000
END:DAYLIGHT
BEGIN:STANDARD
TZOFFSETFROM:-0400
TZOFFSETTO:-0500
TZNAME:EST
DTSTART:20251102T060000
END:STANDARD
BEGIN:DAYLIGHT
TZOFFSETFROM:-0500
TZOFFSETTO:-0400
TZNAME:EDT
DTSTART:20260308T070000
END:DAYLIGHT
BEGIN:STANDARD
TZOFFSETFROM:-0400
TZOFFSETTO:-0500
TZNAME:EST
DTSTART:20261101T060000
END:STANDARD
BEGIN:DAYLIGHT
TZOFFSETFROM:-0500
TZOFFSETTO:-0400
TZNAME:EDT
DTSTART:20270314T070000
END:DAYLIGHT
BEGIN:STANDARD
TZOFFSETFROM:-0400
TZOFFSETTO:-0500
TZNAME:EST
DTSTART:20271107T060000
END:STANDARD
END:VTIMEZONE
BEGIN:VEVENT
DTSTART;TZID=America/New_York:20260128T180000
DTEND;TZID=America/New_York:20260128T190000
DTSTAMP:20260421T145146
CREATED:20260116T152615Z
LAST-MODIFIED:20260116T180804Z
UID:6240-1769623200-1769626800@thedivinemotherhealer.com
SUMMARY:The Radiant Breath: A Kundalini Breathwork Specialty Class
DESCRIPTION:“One thing you have as a gift – the breath of life. Pawan Guru\, the breath of life\, is the source of all knowledge\, all wisdom\, all beauty\, and all opportunities.” — YB \nJoin us for a powerful Kundalini Breathwork Class specifically designed to amplify your health\, energy\, and radiance. In this specialty class\, we move beyond simple relaxation to actively cultivate and refill Prana—your vital life force. \n \nDate: Wednesday\, January 28\, 2026 \nTime: 6:00 PM – 7:00 PM \nExchange: $44 \nWhen we ignore our breath\, we often feel depleted or “stuck” regardless of our external success. By consciously directing our life force through specific Kundalini breathwork techniques\, we invite prosperity\, health\, and deep inner joy into our lives. \nWhat You Will Experience: \nThis 60-minute intensive focuses on the “Pranic Body.” Through rhythmic breathing\, focused meditation\, and subtle movement\, you will: \n\nBuild Radiant Energy: Elevate your frequency to create a natural “inner glow” and physical vibrancy.\nClear Mental Fog: Reorganize scattered thoughts and dissolve stress to find sharp\, intuitive clarity.\nBalance Emotions: Use the breath as a tool to move through fear\, anxiety\, and old patterns that no longer serve you.\nStrengthen Vitality: Boost your resilience and physical well-being by nourishing your living cells with oxygen and spirit.\n\nWho is this for? Whether you are feeling “burnt out” or simply want to magnetize more opportunity and health into your 2026\, this class provides the tools to shift your state instantly. \nNo prior Kundalini experience is required. \nReserve Your Spot – Sign Up Now – Click Here \n 
URL:https://thedivinemotherhealer.com/event/the-radiant-breath-a-kundalini-breathwork-specialty-class/
LOCATION:The Divine Mother Healer – Located in The Self Care Collective\, 365 Franklin Ave\, Wyckoff\, NJ\, 07481\, United States
CATEGORIES:Intuition / Healing
ATTACH;FMTTYPE=image/png:https://thedivinemotherhealer.com/wp-content/uploads/2026/01/breath-work.png
ORGANIZER;CN="Catherine Emporellis":MAILTO:catherine@thedivinemotherhealer.com
END:VEVENT
END:VCALENDAR