BEGIN:VCALENDAR
VERSION:2.0
PRODID:-//Divine Mother Healer - ECPv6.15.20//NONSGML v1.0//EN
CALSCALE:GREGORIAN
METHOD:PUBLISH
X-WR-CALNAME:Divine Mother Healer
X-ORIGINAL-URL:https://thedivinemotherhealer.com
X-WR-CALDESC:Events for Divine Mother Healer
REFRESH-INTERVAL;VALUE=DURATION:PT1H
X-Robots-Tag:noindex
X-PUBLISHED-TTL:PT1H
BEGIN:VTIMEZONE
TZID:America/New_York
BEGIN:DAYLIGHT
TZOFFSETFROM:-0500
TZOFFSETTO:-0400
TZNAME:EDT
DTSTART:20250309T070000
END:DAYLIGHT
BEGIN:STANDARD
TZOFFSETFROM:-0400
TZOFFSETTO:-0500
TZNAME:EST
DTSTART:20251102T060000
END:STANDARD
BEGIN:DAYLIGHT
TZOFFSETFROM:-0500
TZOFFSETTO:-0400
TZNAME:EDT
DTSTART:20260308T070000
END:DAYLIGHT
BEGIN:STANDARD
TZOFFSETFROM:-0400
TZOFFSETTO:-0500
TZNAME:EST
DTSTART:20261101T060000
END:STANDARD
BEGIN:DAYLIGHT
TZOFFSETFROM:-0500
TZOFFSETTO:-0400
TZNAME:EDT
DTSTART:20270314T070000
END:DAYLIGHT
BEGIN:STANDARD
TZOFFSETFROM:-0400
TZOFFSETTO:-0500
TZNAME:EST
DTSTART:20271107T060000
END:STANDARD
END:VTIMEZONE
BEGIN:VEVENT
DTSTART;TZID=America/New_York:20260325T180000
DTEND;TZID=America/New_York:20260325T190000
DTSTAMP:20260424T143633
CREATED:20260206T203234Z
LAST-MODIFIED:20260221T221755Z
UID:6301-1774461600-1774465200@thedivinemotherhealer.com
SUMMARY:Kundalini Breathwork Class to Become Dis-ease Free🧘‍♂️
DESCRIPTION:Elevate your vitality and water your inner sanctuary. In this specialized Kundalini Yoga pranayama class\, we dive deep into the “Breath of 10”\, a legendary meditation practiced to strengthen the immune system\, balance the glandular system\, and create a radiant state of health. \n📅 Event Details\nDate: Wednesday\, March 25\, 2026\nTime: 6:00 PM – 7:00 PM\nFormat: In-Person and Via Zoom\nExperience: Includes intentional warm-ups\, extended “Breath of 10” meditation\, and a deep relaxation for cellular integration. \n🔑 The Essence of the Breath of 10: Vitality & Resilience \nIn the Kundalini tradition\, disease often begins when the life force (Prana) becomes stagnant. This rhythmic “10-part” breath serves as a powerful systemic “reset.” During this hour\, you will experience: \n\nImmune Fortification: This specific ratio of breath is designed to stimulate the thymus gland and lymphatic system\, helping the body defend itself against physical and mental fatigue.\nMagnetic Field Strengthening: By experiencing this breath\, you expand your Auric field\, creating a protective shield that promotes long-term wellness and resilience.\nGlandular Balance: Rhythmic pranayama helps regulate the endocrine system\, ensuring your hormones and energy levels remain in a state of “Homeostasis”—the body’s natural state of health.\n\n \n🌊 Integration & Stillness \nAfter the active breathwork\, we will enter a period of profound stillness. This “Shavasana” allows the newly stirred Prana to circulate freely to the areas of your body that need healing most. You will leave feeling recharged\, clear-headed\, and deeply connected to your body’s innate wisdom. \n\nImportant Note: This practice is a potent tool for preventative health. No prior yoga experience is necessary—just a willingness to breathe and transform.\n\n💻 Join by Zoom \nJoin this class via Zoom! It’s the perfect way to nurture your well-being from the comfort of your own home. \nSpecial Offer: We are offering $10 off your Zoom class. Plus\, you’ll receive a recording of the class to keep forever\, so you can practice the Breath of 10 daily to maintain your radiant health. \nUse the promotional code: KUNDALINIZOOM10 at checkout. \nREGISTER HERE \n 
URL:https://thedivinemotherhealer.com/event/kundalini-breathwork-class-to-become-dis-ease-free%f0%9f%a7%98%e2%99%82%ef%b8%8f/
LOCATION:The Divine Mother Healer – Located in The Self Care Collective\, 365 Franklin Ave\, Wyckoff\, NJ\, 07481\, United States
ATTACH;FMTTYPE=image/png:https://thedivinemotherhealer.com/wp-content/uploads/2026/02/Screenshot-2026-02-06-153017.png
ORGANIZER;CN="Catherine Emporellis":MAILTO:catherine@thedivinemotherhealer.com
END:VEVENT
END:VCALENDAR