BEGIN:VCALENDAR
VERSION:2.0
PRODID:-//Divine Mother Healer - ECPv6.15.20//NONSGML v1.0//EN
CALSCALE:GREGORIAN
METHOD:PUBLISH
X-ORIGINAL-URL:https://thedivinemotherhealer.com
X-WR-CALDESC:Events for Divine Mother Healer
REFRESH-INTERVAL;VALUE=DURATION:PT1H
X-Robots-Tag:noindex
X-PUBLISHED-TTL:PT1H
BEGIN:VTIMEZONE
TZID:America/New_York
BEGIN:DAYLIGHT
TZOFFSETFROM:-0500
TZOFFSETTO:-0400
TZNAME:EDT
DTSTART:20250309T070000
END:DAYLIGHT
BEGIN:STANDARD
TZOFFSETFROM:-0400
TZOFFSETTO:-0500
TZNAME:EST
DTSTART:20251102T060000
END:STANDARD
BEGIN:DAYLIGHT
TZOFFSETFROM:-0500
TZOFFSETTO:-0400
TZNAME:EDT
DTSTART:20260308T070000
END:DAYLIGHT
BEGIN:STANDARD
TZOFFSETFROM:-0400
TZOFFSETTO:-0500
TZNAME:EST
DTSTART:20261101T060000
END:STANDARD
BEGIN:DAYLIGHT
TZOFFSETFROM:-0500
TZOFFSETTO:-0400
TZNAME:EDT
DTSTART:20270314T070000
END:DAYLIGHT
BEGIN:STANDARD
TZOFFSETFROM:-0400
TZOFFSETTO:-0500
TZNAME:EST
DTSTART:20271107T060000
END:STANDARD
END:VTIMEZONE
BEGIN:VEVENT
DTSTART;TZID=America/New_York:20260124T110000
DTEND;TZID=America/New_York:20260131T160000
DTSTAMP:20260424T162014
CREATED:20251120T205744Z
LAST-MODIFIED:20251124T150206Z
UID:5819-1769252400-1769875200@thedivinemotherhealer.com
SUMMARY:Reiki Levels 1 & 2 Training
DESCRIPTION:🌟 Two-in-One Training: Usui & Holy Fire III Reiki I & II Certification\nJanuary 24 and 31 from 11am-4pm\n  \nJoin us for a comprehensive and interactive\, two-day certification course where you will learn to channel the powerful\, gentle healing energy of Usui and Holy Fire III Reiki. This intentional and in depth training will connect you to a universal life force energy for life\, empowering you to heal yourself\, others\, and embrace a path of deeper awareness. \nPlease note that you will be receiving the ability to share both Usui and Holy Fire III Reiki healing frequencies. Upon completion\, you will be certified by an ICRT Affiliated Reiki Teacher in two frequencies of Reiki: Usui and Holy Fire III. \nWhat You Will Experience and Learn: \nDay 1: Foundations & The Heart of Reiki \n\nReiki History & Lineage: Understand the origins and beautiful story of this healing modality.\nHealing Placement/Attunement: Receive the sacred activation for your first Reiki symbol\, connecting you permanently to the Reiki healing frequency.\nEnergetic Anatomy: Explore the Chakras and Aura\, learning practical methods to identify and clear energetic blockages.\nEmpowerment: Learn how to clear\, balance\, and charge yourself\, others\, and spaces.\n“Ocean of Love” Experience: Receive a deep healing journey utilizing liquid light to soothe and revitalize your entire being.\nCrystals & Reiki: Discover how to infuse crystals to amplify their healing power.\n\nDay 2: Expansion & Practice \n\nDeeper Connection: Experience the transformative “Holy Love” Reiki Experience\, deepening your capacity for unconditional love.\nAdvanced Placements: Receive activations for two powerful additional healing symbols.\nHands-On Techniques: Learn multiple methods to use hand positions for giving effective Reiki to yourself and others.\nDistance Healing: Learn the powerful technique to send healing energy anywhere in the world.\nPractice Sessions: Benefit from hands-on sessions with personalized feedback from a seasoned Reiki Master to build confidence.\nBuilding Your Practice: Receive guidance on starting your own Reiki business\, including practical tips on LLCs\, insurance\, and marketing.\n\nCertification: Upon completion\, you will receive your Usui/Holy Fire III Reiki Levels I & II Practitioner Certification.\n  \nWhile this training will naturally enhance and refine your intuitive gifts\, the true focus is on establishing a clear\, lifelong connection to this healing energy\, cultivating self confidence\, and becoming a conduit for peace. \nFollowing the training\, there are further offerings to support you in developing your relationship with Reiki\, if you choose. \nReady to begin your healing journey and become Reiki Healer? Book a complimentary consultation call to learn more and ask any questions:  SET UP A CONSULTATION – CLICK HERE \nIf you feel ready to sign up\, please use this link to commit to the training: The Divine Mother Healer/Reiki Services by Catherine \nREIKI TRAINING – REGISTRATION HERE \nAs low as $49 / month or interest-free with
URL:https://thedivinemotherhealer.com/event/reiki-levels-1-2-training/
LOCATION:The Divine Mother Healer – Located in The Self Care Collective\, 365 Franklin Ave\, Wyckoff\, NJ\, 07481\, United States
ATTACH;FMTTYPE=image/png:https://thedivinemotherhealer.com/wp-content/uploads/2025/11/reiki-800.png
ORGANIZER;CN="Catherine Emporellis":MAILTO:catherine@thedivinemotherhealer.com
END:VEVENT
END:VCALENDAR