BEGIN:VCALENDAR
VERSION:2.0
PRODID:-//Divine Mother Healer - ECPv6.15.20//NONSGML v1.0//EN
CALSCALE:GREGORIAN
METHOD:PUBLISH
X-ORIGINAL-URL:https://thedivinemotherhealer.com
X-WR-CALDESC:Events for Divine Mother Healer
REFRESH-INTERVAL;VALUE=DURATION:PT1H
X-Robots-Tag:noindex
X-PUBLISHED-TTL:PT1H
BEGIN:VTIMEZONE
TZID:UTC
BEGIN:STANDARD
TZOFFSETFROM:+0000
TZOFFSETTO:+0000
TZNAME:UTC
DTSTART:20240101T000000
END:STANDARD
END:VTIMEZONE
BEGIN:VEVENT
DTSTART;TZID=UTC:20250411T180000
DTEND;TZID=UTC:20250411T191500
DTSTAMP:20260425T091629
CREATED:20250312T185308Z
LAST-MODIFIED:20250312T210720Z
UID:3894-1744394400-1744398900@thedivinemotherhealer.com
SUMMARY:Kundalini Pop Up Yoga
DESCRIPTION:The Kundalini energy is the creative energy within all of us \nTap in to your lifeforce energy through guided breathwork\, transformative Kriyas (exercises) and meditative practice. \nOur 75 minute class invites you to connect with your inner energy and elevate your consciousness \nRegistration open until Apr 11th 7:15pm \nRegistration through fit Degree  HERE
URL:https://thedivinemotherhealer.com/event/kundalini-pop-up-yoga/
LOCATION:Iris Yoga\, 383 Broad Street\, Bloomfield\, NJ\, 07003\, United States
ATTACH;FMTTYPE=image/png:https://thedivinemotherhealer.com/wp-content/uploads/2025/03/pop-67.png
ORGANIZER;CN="Catherine Emporellis":MAILTO:catherine@thedivinemotherhealer.com
END:VEVENT
END:VCALENDAR