BEGIN:VCALENDAR
VERSION:2.0
PRODID:-//Divine Mother Healer - ECPv6.15.20//NONSGML v1.0//EN
CALSCALE:GREGORIAN
METHOD:PUBLISH
X-WR-CALNAME:Divine Mother Healer
X-ORIGINAL-URL:https://thedivinemotherhealer.com
X-WR-CALDESC:Events for Divine Mother Healer
REFRESH-INTERVAL;VALUE=DURATION:PT1H
X-Robots-Tag:noindex
X-PUBLISHED-TTL:PT1H
BEGIN:VTIMEZONE
TZID:UTC
BEGIN:STANDARD
TZOFFSETFROM:+0000
TZOFFSETTO:+0000
TZNAME:UTC
DTSTART:20240101T000000
END:STANDARD
END:VTIMEZONE
BEGIN:VEVENT
DTSTART;TZID=UTC:20250219T120000
DTEND;TZID=UTC:20250219T130000
DTSTAMP:20260425T124649
CREATED:20250111T014804Z
LAST-MODIFIED:20250213T004032Z
UID:3511-1739966400-1739970000@thedivinemotherhealer.com
SUMMARY:Kundalini Yoga - Every Wednesday
DESCRIPTION:Mind\, Body\, & Spirit\n\n\n\n\nKundalini yoga is a unique and powerful practice that combines breathwork\, meditation\, and physical postures to unlock your inner energy. Unlike other forms of yoga\, Kundalini aims to awaken the dormant spiritual energy at the base of your spine\, also known as Kundalini energy\, and bring it up through each of the chakras. \n\nI lead classes every Monday and Wednesday at One Love Wellness \nMon 5:30-6:30pm \nWed 12-1:00pm \nRegister HERE \n 
URL:https://thedivinemotherhealer.com/event/kundalini-yoga-every-wednesday-in-february/
LOCATION:One Love Wellness\, 10 S. Broad Street\, Ridgewood\, NJ\, 07450\, United States
CATEGORIES:Yoga
ATTACH;FMTTYPE=image/png:https://thedivinemotherhealer.com/wp-content/uploads/2025/01/imageedit_3_9533015843.png
ORGANIZER;CN="Catherine Emporellis":MAILTO:catherine@thedivinemotherhealer.com
END:VEVENT
END:VCALENDAR